BEGIN:VCALENDAR
PRODID:-//eluceo/ical//2.0/EN
VERSION:2.0
CALSCALE:GREGORIAN
BEGIN:VEVENT
UID:3455e7aec116056bd4fcbaf46bb1ced8
DTSTAMP:20260425T202621Z
SUMMARY:Bericht Internationales Projekt: Uganda - Bwindi Community Hospital
DESCRIPTION:Verena Geissbühler berichtet vom zweiten Fistula-Surgical-Camp
  im Bwindi Community Hospital\, dass unter ihrer Leitung mit dem gleichen 
 Anästhesie-Team vom Kantonsspital Winterthur wie im vergangenen Jahr geme
 insam mit einem ugandischen Spezialisten im Oktober 2013 durchgeführt wur
 de.\nReferenten/innen: Dr. Verena Geissbühler
URL:https://rc-dreilaendereck.ch/de/agenda/show/36440
DTSTART;TZID=Europe/Zurich:20140128T120000
DTEND;TZID=Europe/Zurich:20140128T140000
LOCATION:Restaurant Schlüsselzunft
CATEGORIES:Rotary
END:VEVENT
BEGIN:VTIMEZONE
TZID:Europe/Zurich
BEGIN:STANDARD
DTSTART:20140128T120000
TZNAME:CET
TZOFFSETTO:+0100
TZOFFSETFROM:+0100
END:STANDARD
END:VTIMEZONE
END:VCALENDAR
