BEGIN:VCALENDAR
PRODID:-//eluceo/ical//2.0/EN
VERSION:2.0
CALSCALE:GREGORIAN
BEGIN:VEVENT
UID:f93de84da8c9fc4da8d180b4cf1e2d36
DTSTAMP:20260425T235428Z
SUMMARY:Plauderlunch
DESCRIPTION:
URL:https://rc-dreilaendereck.ch/de/agenda/show/36436
DTSTART;TZID=Europe/Zurich:20140107T120000
DTEND;TZID=Europe/Zurich:20140107T140000
LOCATION:Restaurant Schlüsselzunft
CATEGORIES:Rotary
END:VEVENT
BEGIN:VTIMEZONE
TZID:Europe/Zurich
BEGIN:STANDARD
DTSTART:20140107T120000
TZNAME:CET
TZOFFSETTO:+0100
TZOFFSETFROM:+0100
END:STANDARD
END:VTIMEZONE
END:VCALENDAR
