BEGIN:VCALENDAR
PRODID:-//eluceo/ical//2.0/EN
VERSION:2.0
CALSCALE:GREGORIAN
BEGIN:VEVENT
UID:bf046ed8b726e3c5c680dcf633b31892
DTSTAMP:20260425T213818Z
SUMMARY:27. Schweizer Frauenlauf Bern - Grösster Frauensportanlass in der 
 Schweiz
DESCRIPTION:Der Schweizer Frauenlauf Bern unterstützt jährlich eine wohlt
 ätige Organisation mit einem 1-Franken-Beitrag pro Teilnehmerin. In diese
 m Jahr wird die Organisation Mine-ex unterstützt.\n\nDie Rotary Stiftung 
 MINE-EX hilft Minenopfer in Zusammenarbeit mit dem IKRK vorrangig in Kambo
 dscha und Afghanistan\, wo lokal Prothesen und Orthesen für Minenopfer pr
 oduziert und fachgemäss angepasst werden. \n\nWir sind dabei - Running\, 
 Walking oder Nordic Walking auf 5\, 10 oder 15 km!\nANMELDUNG:\nErst für 
 den Frauenlauf auf www.frauenlauf.ch\nund dann für den Spendenlauf auf ww
 w.minex-spendenlauf.ch anmelden\n\nWertvolle Tipps für eine optimale Vorb
 ereitung finden Sie hier.\n\nOrganisation\nRyffel Running Event GmbH\nTann
 ackerstrasse 7\, 3073 Gümligen\nTel: 031 954 06 06\nE-Mail: frauenlauf(at
 )ryffel.ch\nMenü: RENNEN\, DAMIT ANDERE WIEDER LAUFEN KÖNNEN.\n\nJede Fr
 au kann mitmachen!\n\nDER SPENDENLAUF:\nWer am Frauenlauf teilnimmt\, kann
  gleichzeitig für einen guten Zweck Geld sammeln\, indem sie für den Min
 e-Ex-Spendenlauf an den Start geht. Jede Frau\, die sich entschliesst am F
 rauenlauf für Mine-Ex zu starten\, such sich im Vorfeld Sponsoren. Das er
 laufene Geld und 1 Franken des Startgelds dieser Läuferin gehen nach dem 
 Lauf direkt an Mine-Ex.\n \nWebseite: http://www.frauenlauf.ch
URL:https://rc-dreilaendereck.ch/de/agenda/show/29183
DTSTART;TZID=Europe/Zurich:20130609T000000
DTEND;TZID=Europe/Zurich:20130609T000000
LOCATION:Bern
CATEGORIES:Rotary
END:VEVENT
BEGIN:VTIMEZONE
TZID:Europe/Zurich
BEGIN:DAYLIGHT
DTSTART:20130609T000000
TZNAME:CEST
TZOFFSETTO:+0200
TZOFFSETFROM:+0200
END:DAYLIGHT
END:VTIMEZONE
END:VCALENDAR
