BEGIN:VCALENDAR
PRODID:-//eluceo/ical//2.0/EN
VERSION:2.0
CALSCALE:GREGORIAN
BEGIN:VEVENT
UID:bf5783538f58fabbc4fd58de24069464
DTSTAMP:20260425T214324Z
SUMMARY:Midlife Krise: mitten im Leben oder am Leben vorbei?
DESCRIPTION:Referenten/innen: Dr. med. Andreas Schmid\, Klinik Schützen
URL:https://rc-dreilaendereck.ch/de/agenda/show/28874
DTSTART;TZID=Europe/Zurich:20130312T120000
DTEND;TZID=Europe/Zurich:20130312T120000
LOCATION:Restaurant Schlüsselzunft
CATEGORIES:Rotary
END:VEVENT
BEGIN:VTIMEZONE
TZID:Europe/Zurich
BEGIN:STANDARD
DTSTART:20130312T120000
TZNAME:CET
TZOFFSETTO:+0100
TZOFFSETFROM:+0100
END:STANDARD
END:VTIMEZONE
END:VCALENDAR
