BEGIN:VCALENDAR
PRODID:-//eluceo/ical//2.0/EN
VERSION:2.0
CALSCALE:GREGORIAN
BEGIN:VEVENT
UID:19bf57c07315366e5228fa6781868ca5
DTSTAMP:20260426T002401Z
SUMMARY:Was bewegt den Basler Gesundheitsminister?
DESCRIPTION:Referenten/innen: Regierungsrat Dr. Carlo Conti
URL:https://rc-dreilaendereck.ch/de/agenda/show/23821
DTSTART;TZID=Europe/Zurich:20120814T120000
DTEND;TZID=Europe/Zurich:20120814T140000
LOCATION:Restaurant Schlüsselzunft
CATEGORIES:Rotary
END:VEVENT
BEGIN:VTIMEZONE
TZID:Europe/Zurich
BEGIN:DAYLIGHT
DTSTART:20120814T120000
TZNAME:CEST
TZOFFSETTO:+0200
TZOFFSETFROM:+0200
END:DAYLIGHT
END:VTIMEZONE
END:VCALENDAR
