BEGIN:VCALENDAR
PRODID:-//eluceo/ical//2.0/EN
VERSION:2.0
CALSCALE:GREGORIAN
BEGIN:VEVENT
UID:291fd85af648caaf0cda13e027843b53
DTSTAMP:20260426T002158Z
SUMMARY:Wie schreibt man Radiogeschichte?
DESCRIPTION:Ein Radiopionier blickt zurück und in die Zukunft.\nReferenten
 /innen: Christian Heeb
URL:https://rc-dreilaendereck.ch/de/agenda/show/23787
DTSTART;TZID=Europe/Zurich:20120724T120000
DTEND;TZID=Europe/Zurich:20120724T140000
LOCATION:Restaurant Schlüsselzunft
CATEGORIES:Rotary
END:VEVENT
BEGIN:VTIMEZONE
TZID:Europe/Zurich
BEGIN:DAYLIGHT
DTSTART:20120724T120000
TZNAME:CEST
TZOFFSETTO:+0200
TZOFFSETFROM:+0200
END:DAYLIGHT
END:VTIMEZONE
END:VCALENDAR
