BEGIN:VCALENDAR
PRODID:-//eluceo/ical//2.0/EN
VERSION:2.0
CALSCALE:GREGORIAN
BEGIN:VEVENT
UID:115f3d77abe64b72e1506aa43ced58ba
DTSTAMP:20260426T033654Z
SUMMARY:Partneranlass - Hinter den Kulissen von Telebasel
DESCRIPTION:Wer will wissen\, wie es am TV zu und her geht\, der kommt mit.
  Es erwartet euch ein Einblick hinter die Kulissen des spannenden Alltags 
 am Fernsehen. Anschliessend gibt es einen schmackhaften Apéro. Rotarier a
 n der Telebar Neugierig? Dann schreibt Euch ein!\nReferenten/innen: Jeanne
  Fürst
URL:https://rc-dreilaendereck.ch/de/agenda/show/23776
DTSTART;TZID=Europe/Zurich:20120726T180000
DTEND;TZID=Europe/Zurich:20120726T200000
LOCATION:Telebasel\, Steinenschanze 2\, 4051 Basel
CATEGORIES:Rotary
END:VEVENT
BEGIN:VTIMEZONE
TZID:Europe/Zurich
BEGIN:DAYLIGHT
DTSTART:20120726T180000
TZNAME:CEST
TZOFFSETTO:+0200
TZOFFSETFROM:+0200
END:DAYLIGHT
END:VTIMEZONE
END:VCALENDAR
