BEGIN:VCALENDAR
PRODID:-//eluceo/ical//2.0/EN
VERSION:2.0
CALSCALE:GREGORIAN
BEGIN:VEVENT
UID:3d05a351e0898d82b45387d0def33bb5
DTSTAMP:20260426T020652Z
SUMMARY:Partneranlass
DESCRIPTION:Besuch im Humor Labor Pello Kosten: CHF 35.- p.P.\nReferenten/i
 nnen: PELLO
URL:https://rc-dreilaendereck.ch/de/agenda/show/22161
DTSTART;TZID=Europe/Zurich:20120619T120000
DTEND;TZID=Europe/Zurich:20120619T140000
LOCATION:Fatiostrasse 22\, 4056 Basel
CATEGORIES:Rotary
END:VEVENT
BEGIN:VTIMEZONE
TZID:Europe/Zurich
BEGIN:DAYLIGHT
DTSTART:20120619T120000
TZNAME:CEST
TZOFFSETTO:+0200
TZOFFSETFROM:+0200
END:DAYLIGHT
END:VTIMEZONE
END:VCALENDAR
