BEGIN:VCALENDAR
PRODID:-//eluceo/ical//2.0/EN
VERSION:2.0
CALSCALE:GREGORIAN
BEGIN:VEVENT
UID:8a1b044a544cd201c154b9ff18d4f971
DTSTAMP:20260426T034204Z
SUMMARY:Partneranlass: Radübergabe
DESCRIPTION:
URL:https://rc-dreilaendereck.ch/de/agenda/show/20745
DTSTART;TZID=Europe/Zurich:20120621T190000
DTEND;TZID=Europe/Zurich:20120621T210000
LOCATION:-
CATEGORIES:Rotary
END:VEVENT
BEGIN:VTIMEZONE
TZID:Europe/Zurich
BEGIN:DAYLIGHT
DTSTART:20120621T190000
TZNAME:CEST
TZOFFSETTO:+0200
TZOFFSETFROM:+0200
END:DAYLIGHT
END:VTIMEZONE
END:VCALENDAR
