BEGIN:VCALENDAR
PRODID:-//eluceo/ical//2.0/EN
VERSION:2.0
CALSCALE:GREGORIAN
BEGIN:VEVENT
UID:2a99d4c097a068f12b891d7c1fa1eff7
DTSTAMP:20260425T204030Z
SUMMARY:Bebbi Jazz 2011
DESCRIPTION:Grillstand
URL:https://rc-dreilaendereck.ch/de/agenda/show/18776
DTSTART;TZID=Europe/Zurich:20110819T180000
DTEND;TZID=Europe/Zurich:20110819T200000
LOCATION:Spalenberg 37\, Basel
CATEGORIES:Rotary
END:VEVENT
BEGIN:VTIMEZONE
TZID:Europe/Zurich
BEGIN:DAYLIGHT
DTSTART:20110819T180000
TZNAME:CEST
TZOFFSETTO:+0200
TZOFFSETFROM:+0200
END:DAYLIGHT
END:VTIMEZONE
END:VCALENDAR
