BEGIN:VCALENDAR
PRODID:-//eluceo/ical//2.0/EN
VERSION:2.0
CALSCALE:GREGORIAN
BEGIN:VEVENT
UID:14fb61131abacfa0eca3e8f3254f230d
DTSTAMP:20260421T121837Z
SUMMARY:Sparlunch
DESCRIPTION:Webseite: https://www.soupandchill.com/\nReferenten/innen: Clau
 dia Adrario
URL:https://rc-dreilaendereck.ch/de/agenda/show/158929
DTSTART;TZID=Europe/Zurich:20231107T121500
DTEND;TZID=Europe/Zurich:20231107T133000
LOCATION:Soup & Chill
CATEGORIES:Rotary
END:VEVENT
BEGIN:VTIMEZONE
TZID:Europe/Zurich
BEGIN:STANDARD
DTSTART:20231107T121500
TZNAME:CET
TZOFFSETTO:+0100
TZOFFSETFROM:+0100
END:STANDARD
END:VTIMEZONE
END:VCALENDAR
