BEGIN:VCALENDAR
PRODID:-//eluceo/ical//2.0/EN
VERSION:2.0
CALSCALE:GREGORIAN
BEGIN:VEVENT
UID:e696515b09be8c9c36874f223bdb40c6
DTSTAMP:20260423T170544Z
SUMMARY:Lunch-Referat - Aus dem vielfältigen Leben einer Anwältin
DESCRIPTION:Webseite: https://www.gysinrecht.ch/andrea-gysin\nReferenten/in
 nen: Andrea Gysin
URL:https://rc-dreilaendereck.ch/de/agenda/show/151178
DTSTART;TZID=Europe/Zurich:20230516T121500
DTEND;TZID=Europe/Zurich:20230516T133000
LOCATION:Restaurant Schützenhaus\, Schützenzimmer\, Schützenmattstrasse 
 56\, 4051 Basel +41 61 272 67 60
CATEGORIES:Rotary
END:VEVENT
BEGIN:VTIMEZONE
TZID:Europe/Zurich
BEGIN:DAYLIGHT
DTSTART:20230516T121500
TZNAME:CEST
TZOFFSETTO:+0200
TZOFFSETFROM:+0200
END:DAYLIGHT
END:VTIMEZONE
END:VCALENDAR
