BEGIN:VCALENDAR
PRODID:-//eluceo/ical//2.0/EN
VERSION:2.0
CALSCALE:GREGORIAN
BEGIN:VEVENT
UID:c4e2b5c5c334905d59558a1b1eb69c6c
DTSTAMP:20260425T012718Z
SUMMARY:Plauderlunch
DESCRIPTION:Webseite: http://schluesselzunft.ch/
URL:https://rc-dreilaendereck.ch/de/agenda/show/128349
DTSTART;TZID=Europe/Zurich:20210803T121500
DTEND;TZID=Europe/Zurich:20210803T131500
LOCATION:Restaurant Schlüsselzunft\, Freie Strasse 25\, 4001 Basel
CATEGORIES:Rotary
END:VEVENT
BEGIN:VTIMEZONE
TZID:Europe/Zurich
BEGIN:DAYLIGHT
DTSTART:20210803T121500
TZNAME:CEST
TZOFFSETTO:+0200
TZOFFSETFROM:+0200
END:DAYLIGHT
END:VTIMEZONE
END:VCALENDAR
