BEGIN:VCALENDAR
PRODID:-//eluceo/ical//2.0/EN
VERSION:2.0
CALSCALE:GREGORIAN
BEGIN:VEVENT
UID:13b9d054a29e1019874d9fa7fdb9f3a5
DTSTAMP:20260425T010447Z
SUMMARY:Plauderlunch
DESCRIPTION:Webseite: http://schluesselzunft.ch/
URL:https://rc-dreilaendereck.ch/de/agenda/show/127597
DTSTART;TZID=Europe/Zurich:20210720T121500
DTEND;TZID=Europe/Zurich:20210720T131500
LOCATION:Restaurant Schlüsselzunft\, Freie Strasse 25\, 4001 Basel
CATEGORIES:Rotary
END:VEVENT
BEGIN:VTIMEZONE
TZID:Europe/Zurich
BEGIN:DAYLIGHT
DTSTART:20210720T121500
TZNAME:CEST
TZOFFSETTO:+0200
TZOFFSETFROM:+0200
END:DAYLIGHT
END:VTIMEZONE
END:VCALENDAR
