BEGIN:VCALENDAR
PRODID:-//eluceo/ical//2.0/EN
VERSION:2.0
CALSCALE:GREGORIAN
BEGIN:VEVENT
UID:4f13ff07f2a4100fe3a7f5c0509610f0
DTSTAMP:20260425T031450Z
SUMMARY:Plauderlunch
DESCRIPTION:Webseite: http://schluesselzunft.ch/
URL:https://rc-dreilaendereck.ch/de/agenda/show/127596
DTSTART;TZID=Europe/Zurich:20210713T121500
DTEND;TZID=Europe/Zurich:20210713T131500
LOCATION:Restaurant Schlüsselzunft\, Freie Strasse 25\, 4001 Basel
CATEGORIES:Rotary
END:VEVENT
BEGIN:VTIMEZONE
TZID:Europe/Zurich
BEGIN:DAYLIGHT
DTSTART:20210713T121500
TZNAME:CEST
TZOFFSETTO:+0200
TZOFFSETFROM:+0200
END:DAYLIGHT
END:VTIMEZONE
END:VCALENDAR
