BEGIN:VCALENDAR
PRODID:-//eluceo/ical//2.0/EN
VERSION:2.0
CALSCALE:GREGORIAN
BEGIN:VEVENT
UID:2336f0749c38fe9d15d3b60fc6e45887
DTSTAMP:20260423T054506Z
SUMMARY:Weihnachtsanlass
DESCRIPTION:Einladung zum Weihnachtsessen am Samstag\, 19. Dezember 2015 im
  Restaurant Lange Erlen\n\n18.30 Uhr Apéro\n\n19.00 Uhr Nachtessen mit ei
 nem musikalischen Start\n\nDie Kosten betragen für Erwachsene Fr. 110.--\
 , für Kinder Fr. 50.— (Inkl. Apéro\, Wasser und Kaffee\, ohne alkoholi
 sche Getränke)\n\nBitte um An- oder Abmeldung bis am 13.12.15.\n\n \nWeb
  stranica: http://www.langeerlen.ch/parkrestaurant/\nGovornik(ci): Markus 
 Stokar / René Krämer
URL:https://rc-dreilaendereck.ch/bs/agenda/show/57489
DTSTART;TZID=Europe/Zurich:20151219T183000
DTEND;TZID=Europe/Zurich:20151219T183000
LOCATION:Parkrestaurant Lange Erlen\, Erlenparkweg 55\, CH-4058 Basel
CATEGORIES:Rotary
END:VEVENT
BEGIN:VTIMEZONE
TZID:Europe/Zurich
BEGIN:STANDARD
DTSTART:20151219T183000
TZNAME:CET
TZOFFSETTO:+0100
TZOFFSETFROM:+0100
END:STANDARD
END:VTIMEZONE
END:VCALENDAR
