BEGIN:VCALENDAR
PRODID:-//eluceo/ical//2.0/EN
VERSION:2.0
CALSCALE:GREGORIAN
BEGIN:VEVENT
UID:91e406da07b146196620ccc6b67759c1
DTSTAMP:20260423T022644Z
SUMMARY:Plauderlunch
DESCRIPTION:
URL:https://rc-dreilaendereck.ch/bs/agenda/show/57447
DTSTART;TZID=Europe/Zurich:20160301T120000
DTEND;TZID=Europe/Zurich:20160301T120000
LOCATION:Restaurant Schlüsselzunft
CATEGORIES:Rotary
END:VEVENT
BEGIN:VTIMEZONE
TZID:Europe/Zurich
BEGIN:STANDARD
DTSTART:20160301T120000
TZNAME:CET
TZOFFSETTO:+0100
TZOFFSETFROM:+0100
END:STANDARD
END:VTIMEZONE
END:VCALENDAR
