BEGIN:VCALENDAR
PRODID:-//eluceo/ical//2.0/EN
VERSION:2.0
CALSCALE:GREGORIAN
BEGIN:VEVENT
UID:145bbf7919e2643ec19e2de127d19622
DTSTAMP:20260422T225522Z
SUMMARY:Energiewende von Seiten der BKW
DESCRIPTION:Govornik(ci): Suzanne Thoma\, CEO BKW AG
URL:https://rc-dreilaendereck.ch/bs/agenda/show/57441
DTSTART;TZID=Europe/Zurich:20160119T120000
DTEND;TZID=Europe/Zurich:20160119T120000
LOCATION:Restaurant Schlüsselzunft
CATEGORIES:Rotary
END:VEVENT
BEGIN:VTIMEZONE
TZID:Europe/Zurich
BEGIN:STANDARD
DTSTART:20160119T120000
TZNAME:CET
TZOFFSETTO:+0100
TZOFFSETFROM:+0100
END:STANDARD
END:VTIMEZONE
END:VCALENDAR
