BEGIN:VCALENDAR
PRODID:-//eluceo/ical//2.0/EN
VERSION:2.0
CALSCALE:GREGORIAN
BEGIN:VEVENT
UID:0baafb9c1781e869a6156fa7fda2fc24
DTSTAMP:20260423T023247Z
SUMMARY:Plauderlunch Jahreswechsel
DESCRIPTION:
URL:https://rc-dreilaendereck.ch/bs/agenda/show/54324
DTSTART;TZID=Europe/Zurich:20151229T120000
DTEND;TZID=Europe/Zurich:20151229T120000
LOCATION:Restaurant Schlüsselzunft
CATEGORIES:Rotary
END:VEVENT
BEGIN:VTIMEZONE
TZID:Europe/Zurich
BEGIN:STANDARD
DTSTART:20151229T120000
TZNAME:CET
TZOFFSETTO:+0100
TZOFFSETFROM:+0100
END:STANDARD
END:VTIMEZONE
END:VCALENDAR
