BEGIN:VCALENDAR
PRODID:-//eluceo/ical//2.0/EN
VERSION:2.0
CALSCALE:GREGORIAN
BEGIN:VEVENT
UID:b83245c44bc0862210967b9eeade8d1c
DTSTAMP:20260423T041922Z
SUMMARY:Plauderlunch Weihnachtsferien
DESCRIPTION:
URL:https://rc-dreilaendereck.ch/bs/agenda/show/54323
DTSTART;TZID=Europe/Zurich:20151222T120000
DTEND;TZID=Europe/Zurich:20151222T120000
LOCATION:Restaurant Schlüsselzunft
CATEGORIES:Rotary
END:VEVENT
BEGIN:VTIMEZONE
TZID:Europe/Zurich
BEGIN:STANDARD
DTSTART:20151222T120000
TZNAME:CET
TZOFFSETTO:+0100
TZOFFSETFROM:+0100
END:STANDARD
END:VTIMEZONE
END:VCALENDAR
