BEGIN:VCALENDAR
PRODID:-//eluceo/ical//2.0/EN
VERSION:2.0
CALSCALE:GREGORIAN
BEGIN:VEVENT
UID:5c36f50a0999f4e18a021fcf5d1cfe68
DTSTAMP:20260422T182350Z
SUMMARY:Grillabend Soup & Chill
DESCRIPTION:Wir grillieren im Rahmen unseres Gemeindienstes zu Gunsten Soup
  & Chill.\nWeb stranica: http://www.soupandchill.com
URL:https://rc-dreilaendereck.ch/bs/agenda/show/41463
DTSTART;TZID=Europe/Zurich:20140919T180000
DTEND;TZID=Europe/Zurich:20140919T180000
LOCATION:Soup & Chill\, Solothurnerstrasse 8\, 4053 Basel
CATEGORIES:Rotary
END:VEVENT
BEGIN:VTIMEZONE
TZID:Europe/Zurich
BEGIN:DAYLIGHT
DTSTART:20140919T180000
TZNAME:CEST
TZOFFSETTO:+0200
TZOFFSETFROM:+0200
END:DAYLIGHT
END:VTIMEZONE
END:VCALENDAR
