BEGIN:VCALENDAR
PRODID:-//eluceo/ical//2.0/EN
VERSION:2.0
CALSCALE:GREGORIAN
BEGIN:VEVENT
UID:8380373de14640045648a07a94b6f51c
DTSTAMP:20260422T160853Z
SUMMARY:Einschaltung Weihnachtsbeleuchtung
DESCRIPTION:Offizielle Ouvertüre der Basler Weihnacht - WIR ENGAGIEREN UNS
  FÜR ÄLTERE UND BETAGTE MITMENSCHEN!\n\nLiebe rotarische Freundinnen\, l
 iebe rotarische Freunde\nLiebe Mitglieder von Rotaract\n\nZur offiziellen 
 Eröffnung der Basler Weihnacht lässt Regierungspräsident Guy Morin am 2
 8. November 2013 um 18.30 Uhr auf dem Münsterplatz die Weihnachtsbeleucht
 ung erstrahlen. Geichzeitig werden die zahlreichen Weihnachtsbäume auf Ba
 sels Strasse in voller Pracht zu bewundern sein. Musikalisch begleitet wir
  die Ouvertüre durch das Hornensemble der Musik-Akademie Basel unter der 
 Leitung von Stefan Ruf und dem Extra-Chor des Theater Basel unter der Leit
 ung von Henryk Polus.\n\nEs ist eine schöne Tradition unseres Rotary-Club
 s\, dass wir einigen Heimbewohnerinnen und Heimbewohner des Alters- und Pf
 legeheim Marienhaus die Teilnahme an der Ouvertüre der Basler Weihnacht e
 rmöglichen und sie anschliessend zu einem Nachtessen einladen.\n\nAuch in
  diesem Jahr werden wir 16 - 18 Heimbewohnerinnen und Heimbewohner auf dem
  Münsterplatz empfangen. Sie treffen mit zwei Kleinbussen um 18.00 Uhr in
  Begleitung von 4 - 5 Pflegerinnen und Pflegern ein. Damit wir eine optima
 le Betreuung gewährleisten können\, sind wir ab 17.30 Uhr (Besammlung Ei
 ngang Kreuzgang - rechts vom Münster) auf die aktive Mithilfe von mindest
 ens 15 Clubmitgliedern und Rotaract angewiesen. Die Ouvertüre beginnt um 
 18.30 Uhr. Im Anschluss daran - voraussichtlich um 19.30 Uhr - verschieben
  wir uns in das Museumsbistro Rollerhof\, Münsterplatz 20\, Basel\, zum g
 emeinsamen Nachtessen. Unsere Gäste werden zu gegebener Zeit von ihren Pf
 legerinnen und Pfleger wieder nach Hause transportiert.\n\nGerne erwarte i
 ch Eure Anmeldung bis 12. November 2013 an hanspeter.gass@bluewin.ch\n\nMi
 t rotarischen Grüssen\n\nHanspeter Gass
URL:https://rc-dreilaendereck.ch/bs/agenda/show/33770
DTSTART;TZID=Europe/Zurich:20131128T173000
DTEND;TZID=Europe/Zurich:20131128T193000
LOCATION:Münsterplatz\, Eingang Kreuzgang - rechts vom Münster
CATEGORIES:Rotary
END:VEVENT
BEGIN:VTIMEZONE
TZID:Europe/Zurich
BEGIN:STANDARD
DTSTART:20131128T173000
TZNAME:CET
TZOFFSETTO:+0100
TZOFFSETFROM:+0100
END:STANDARD
END:VTIMEZONE
END:VCALENDAR
