BEGIN:VCALENDAR
PRODID:-//eluceo/ical//2.0/EN
VERSION:2.0
CALSCALE:GREGORIAN
BEGIN:VEVENT
UID:4d33f56885c07ddbdf45adf04fd68c0c
DTSTAMP:20260424T190021Z
SUMMARY:Referat - Flüchtlinge aus Sri Lanka in Basel
DESCRIPTION:Freiplatzaktion Basel - Asyl und Integration\nGovornik(ci): Eve
 lyn Stokar\, Stellvertretende Leiterin der Beratungsstelle
URL:https://rc-dreilaendereck.ch/bs/agenda/show/23778
DTSTART;TZID=Europe/Zurich:20120807T120000
DTEND;TZID=Europe/Zurich:20120807T140000
LOCATION:Restaurant Schlüsselzunft
CATEGORIES:Rotary
END:VEVENT
BEGIN:VTIMEZONE
TZID:Europe/Zurich
BEGIN:DAYLIGHT
DTSTART:20120807T120000
TZNAME:CEST
TZOFFSETTO:+0200
TZOFFSETFROM:+0200
END:DAYLIGHT
END:VTIMEZONE
END:VCALENDAR
